BEGIN:VCALENDAR
PRODID:-//IONAS//TVM//DE
VERSION:2.0
CALSCALE:GREGORIAN
BEGIN:VTIMEZONE
TZID:Europe/Berlin
LAST-MODIFIED:20201010T011803Z
TZURL:http://tzurl.org/zoneinfo/Europe/Berlin
X-LIC-LOCATION:Europe/Berlin
X-PROLEPTIC-TZNAME:LMT
BEGIN:STANDARD
TZNAME:CET
TZOFFSETFROM:+005328
TZOFFSETTO:+0100
DTSTART:18930401T000000
END:STANDARD
BEGIN:DAYLIGHT
TZNAME:CEST
TZOFFSETFROM:+0100
TZOFFSETTO:+0200
DTSTART:19160430T230000
RDATE:19400401T020000
RDATE:19430329T020000
RDATE:19460414T020000
RDATE:19470406T030000
RDATE:19480418T020000
RDATE:19490410T020000
RDATE:19800406T020000
END:DAYLIGHT
BEGIN:STANDARD
TZNAME:CET
TZOFFSETFROM:+0200
TZOFFSETTO:+0100
DTSTART:19161001T010000
RDATE:19421102T030000
RDATE:19431004T030000
RDATE:19441002T030000
RDATE:19451118T030000
RDATE:19461007T030000
END:STANDARD
BEGIN:DAYLIGHT
TZNAME:CEST
TZOFFSETFROM:+0100
TZOFFSETTO:+0200
DTSTART:19170416T020000
RRULE:FREQ=YEARLY;UNTIL=19180415T010000Z;BYMONTH=4;BYDAY=3MO
END:DAYLIGHT
BEGIN:STANDARD
TZNAME:CET
TZOFFSETFROM:+0200
TZOFFSETTO:+0100
DTSTART:19170917T030000
RRULE:FREQ=YEARLY;UNTIL=19180916T010000Z;BYMONTH=9;BYDAY=3MO
END:STANDARD
BEGIN:DAYLIGHT
TZNAME:CEST
TZOFFSETFROM:+0100
TZOFFSETTO:+0200
DTSTART:19440403T020000
RRULE:FREQ=YEARLY;UNTIL=19450402T010000Z;BYMONTH=4;BYDAY=1MO
END:DAYLIGHT
BEGIN:DAYLIGHT
TZNAME:CEMT
TZOFFSETFROM:+0200
TZOFFSETTO:+0300
DTSTART:19450524T020000
RDATE:19470511T030000
END:DAYLIGHT
BEGIN:DAYLIGHT
TZNAME:CEST
TZOFFSETFROM:+0300
TZOFFSETTO:+0200
DTSTART:19450924T030000
RDATE:19470629T030000
END:DAYLIGHT
BEGIN:STANDARD
TZNAME:CET
TZOFFSETFROM:+0100
TZOFFSETTO:+0100
DTSTART:19460101T000000
RDATE:19800101T000000
END:STANDARD
BEGIN:STANDARD
TZNAME:CET
TZOFFSETFROM:+0200
TZOFFSETTO:+0100
DTSTART:19471005T030000
RRULE:FREQ=YEARLY;UNTIL=19491002T010000Z;BYMONTH=10;BYDAY=1SU
END:STANDARD
BEGIN:STANDARD
TZNAME:CET
TZOFFSETFROM:+0200
TZOFFSETTO:+0100
DTSTART:19800928T030000
RRULE:FREQ=YEARLY;UNTIL=19950924T010000Z;BYMONTH=9;BYDAY=-1SU
END:STANDARD
BEGIN:DAYLIGHT
TZNAME:CEST
TZOFFSETFROM:+0100
TZOFFSETTO:+0200
DTSTART:19810329T020000
RRULE:FREQ=YEARLY;BYMONTH=3;BYDAY=-1SU
END:DAYLIGHT
BEGIN:STANDARD
TZNAME:CET
TZOFFSETFROM:+0200
TZOFFSETTO:+0100
DTSTART:19961027T030000
RRULE:FREQ=YEARLY;BYMONTH=10;BYDAY=-1SU
END:STANDARD
END:VTIMEZONE
BEGIN:VEVENT
DTSTAMP:20260422T135634Z
DTSTART;VALUE=DATE:20260509
DTEND;VALUE=DATE:20260510
SUMMARY:Open-Air-Theatertag
CREATED:20260320T093449Z
LAST-MODIFIED:20260416T132933Z
DESCRIPTION:Am 9. Mai wird der Kennedypark ab 13 Uhr zum Schauplatz eines
  unvergesslichen Theatertags\, ein Highlight für die ganze Familie. Als 
 zusätzliche Aktivitäten für Kinder gibt es Kinderschminken\, eine Hüpfbu
 rg und ein Karussell. Diese Attraktionen sind vor und zwischen den drei 
 Theaterstücken kostenlos. Zur Verpflegung stehen Verkaufsstände mit Esse
 n und Getränken bereit.\n\nDas DAS DA Theater führt drei abwechslungsrei
 che Stücke auf\, welche dazu einladen\, in unterschiedliche Welten einzu
 tauchen und mit den Charakteren mitzufiebern:\n\n14.30 Uhr: \"Das NEINho
 rn und der Geburtstag\" (ab 3 Jahren)\nMit „Das NEINhorn und der Geburts
 tag“\, dem neuen Kinderbuch von Marc-Uwe Kling\, kehrt das quirlige Fabe
 lwesen mit viel Spaß zurück auf die Kennedybühne. Die humorvolle Geschic
 hte handelt von Freundschaft\, Streiten und Versöhnen und davon\, wie wi
 chtig es ist\, Kompromisse zu finden. Die musikalische Erzählung vermitt
 elt kindgerecht soziale Werte und macht Mut\, offen für Neues zu sein.\n
 \n16.30 Uhr: \"Ronja Räubertochter\" (ab 6 Jahren)\n„Ronja Räubertochter
 “\, basierend auf dem berühmten Kinderbuch der schwedischen Autorin Astr
 id Lindgren\, erzählt von Freiheit\, Verantwortung und Versöhnung\, von 
 Familie\, Freundschaft und Liebe. Voller Energie und Fantasie ermutigt d
 ie Geschichte junge Zuschauende\, ihren eigenen Weg zu finden und für si
 ch selbst einzutreten. Als musikalisches Stück zeigt „Ronja Räubertochte
 r“\, wie man Vorurteile überwinden kann – für ein respektvolles Miteinan
 der.\n\n20 Uhr: \"#dieWelle2026“ (ab 14 Jahren)\nDer 1981 erschienene Be
 stseller „Die Welle“ beruht auf einem realen Versuch\, den der Lehrer Ro
 n Jones 1967 an einer kalifornischen Highschool durchführte\, um zu zeig
 en\, wie leicht Menschen manipuliert und instrumentalisiert werden könne
 n. Das Schauspiel #dieWelle2026\, basierend auf der modernen Textfassung
  des GRIPS Theaters\, bringt das Thema Radikalisierung und Machtmissbrau
 ch auf die Bühne. Vor dem Hintergrund des 9. Mais\, an dem der Opfer des
  Nationalsozialismus‘ gedacht wird\, und der aktuellen politischen und g
 esellschaftlichen Entwicklungen\, ist das Stück nach wie vor aktuell.\n\
 nDas Open-Air-Theater im Kennedypark verspricht ein unvergessliches Erle
 bnis für Jung und Alt. Der Eintritt ist frei.
LOCATION:Kennedybühne
X-LOCATION-NAME:Kennedybühne
X-STREET-ADDRESS:Elsassstraße 58
X-POSTAL-CODE:52068
X-LOCALITY:Aachen
GEO:50.77377787254832;6.119512481983394
ORGANIZER;CN="Stadt Aachen, Nadelfabrik":mailto:nadelfabrik@mail.aachen.d
 e
X-ORGANIZER-NAME:Stadt Aachen\, Nadelfabrik
X-ORGANIZER-EMAIL:nadelfabrik@mail.aachen.de
X-IONAS-CATEGORY:Freizeit
CATEGORIES:Freizeit,Freizeit,Familie,Theater,Nadelfabrik,Veranstaltung,Ki
 nder,Kennedybühne,Essen & Trinken
ATTACH;FMTTYPE=image/jpeg;X-COPYRIGHT="Stadt Aachen, Barbara Teschner":ht
 tps://www.aachen.de/kalender/2026/q2/nadelfabrik/2026-05-09-open-air-the
 atertag/20240504-165444.jpg?cid=z3t.8kwx
UID:e5705a74-085b-43a0-b942-c46e48cdf4ca:2026-05-09
END:VEVENT
END:VCALENDAR
