BEGIN:VCALENDAR
PRODID:-//IONAS//TVM//DE
VERSION:2.0
CALSCALE:GREGORIAN
BEGIN:VTIMEZONE
TZID:Europe/Berlin
LAST-MODIFIED:20201010T011803Z
TZURL:http://tzurl.org/zoneinfo/Europe/Berlin
X-LIC-LOCATION:Europe/Berlin
X-PROLEPTIC-TZNAME:LMT
BEGIN:STANDARD
TZNAME:CET
TZOFFSETFROM:+005328
TZOFFSETTO:+0100
DTSTART:18930401T000000
END:STANDARD
BEGIN:DAYLIGHT
TZNAME:CEST
TZOFFSETFROM:+0100
TZOFFSETTO:+0200
DTSTART:19160430T230000
RDATE:19400401T020000
RDATE:19430329T020000
RDATE:19460414T020000
RDATE:19470406T030000
RDATE:19480418T020000
RDATE:19490410T020000
RDATE:19800406T020000
END:DAYLIGHT
BEGIN:STANDARD
TZNAME:CET
TZOFFSETFROM:+0200
TZOFFSETTO:+0100
DTSTART:19161001T010000
RDATE:19421102T030000
RDATE:19431004T030000
RDATE:19441002T030000
RDATE:19451118T030000
RDATE:19461007T030000
END:STANDARD
BEGIN:DAYLIGHT
TZNAME:CEST
TZOFFSETFROM:+0100
TZOFFSETTO:+0200
DTSTART:19170416T020000
RRULE:FREQ=YEARLY;UNTIL=19180415T010000Z;BYMONTH=4;BYDAY=3MO
END:DAYLIGHT
BEGIN:STANDARD
TZNAME:CET
TZOFFSETFROM:+0200
TZOFFSETTO:+0100
DTSTART:19170917T030000
RRULE:FREQ=YEARLY;UNTIL=19180916T010000Z;BYMONTH=9;BYDAY=3MO
END:STANDARD
BEGIN:DAYLIGHT
TZNAME:CEST
TZOFFSETFROM:+0100
TZOFFSETTO:+0200
DTSTART:19440403T020000
RRULE:FREQ=YEARLY;UNTIL=19450402T010000Z;BYMONTH=4;BYDAY=1MO
END:DAYLIGHT
BEGIN:DAYLIGHT
TZNAME:CEMT
TZOFFSETFROM:+0200
TZOFFSETTO:+0300
DTSTART:19450524T020000
RDATE:19470511T030000
END:DAYLIGHT
BEGIN:DAYLIGHT
TZNAME:CEST
TZOFFSETFROM:+0300
TZOFFSETTO:+0200
DTSTART:19450924T030000
RDATE:19470629T030000
END:DAYLIGHT
BEGIN:STANDARD
TZNAME:CET
TZOFFSETFROM:+0100
TZOFFSETTO:+0100
DTSTART:19460101T000000
RDATE:19800101T000000
END:STANDARD
BEGIN:STANDARD
TZNAME:CET
TZOFFSETFROM:+0200
TZOFFSETTO:+0100
DTSTART:19471005T030000
RRULE:FREQ=YEARLY;UNTIL=19491002T010000Z;BYMONTH=10;BYDAY=1SU
END:STANDARD
BEGIN:STANDARD
TZNAME:CET
TZOFFSETFROM:+0200
TZOFFSETTO:+0100
DTSTART:19800928T030000
RRULE:FREQ=YEARLY;UNTIL=19950924T010000Z;BYMONTH=9;BYDAY=-1SU
END:STANDARD
BEGIN:DAYLIGHT
TZNAME:CEST
TZOFFSETFROM:+0100
TZOFFSETTO:+0200
DTSTART:19810329T020000
RRULE:FREQ=YEARLY;BYMONTH=3;BYDAY=-1SU
END:DAYLIGHT
BEGIN:STANDARD
TZNAME:CET
TZOFFSETFROM:+0200
TZOFFSETTO:+0100
DTSTART:19961027T030000
RRULE:FREQ=YEARLY;BYMONTH=10;BYDAY=-1SU
END:STANDARD
END:VTIMEZONE
BEGIN:VEVENT
DTSTAMP:20260421T024129Z
DTSTART;TZID=Europe/Berlin:20260429T140000
DTEND;TZID=Europe/Berlin:20260429T180000
SUMMARY:Tag ohne Barrieren
CREATED:20260402T104624Z
LAST-MODIFIED:20260407T103735Z
DESCRIPTION:Gemeinsam gestalten: Die Stadt Aachen lädt zu einem Aktionsta
 g ein.\n\nKomm vorbei und schau dir die vielen Infostände und Angebote z
 um Mitmachen an. Es werden konkrete Lösungen für mehr Inklusion und Barr
 ierefreiheit gezeigt. Außerdem werden neue und bestehende barrierefreie 
 Angebote in Aachen vorgestellt. Es gibt die Möglichkeit\, sich von einer
  Rikscha spazieren fahren zu lassen. Auch Spezialräder und Rollatoren dü
 rfen getestet werden. Der Aktionstag wird veranstaltet durch die Fachber
 eiche Wohnen\, Soziales und Integration sowie Mobilität und Verkehr.\n\n
 Mit dabei:\n\nSpezialräder testen mit Stabil Mobil\nInfos zur Sicheren E
 -Bike Nutzung und Parcours mit der Polizei\nRollator-Parcours und Rollat
 or-Check mit BB-Medica\nRollstuhlparcours mit der EUTB\nSitztanz-Gruppe 
 mit der AOK\nRollatortanz mit der Heilmaufaktur\nSing all together mit d
 er Diakonie\n\nund viele weitere Beratungs- und Mitmachangebote.
LOCATION:Park-Terrassen
X-LOCATION-NAME:Park-Terrassen
X-STREET-ADDRESS:Dammstraße 40
X-POSTAL-CODE:52066
X-LOCALITY:Burtscheid
ORGANIZER;CN=Stadt Aachen:mailto:veranstaltungen-mobilitaet@mail.aachen.d
 e
X-ORGANIZER-NAME:Stadt Aachen
X-ORGANIZER-EMAIL:veranstaltungen-mobilitaet@mail.aachen.de
X-ORGANIZER-WEBSITE:https://aachenbewegt.de/kalender/tag-ohne-barrieren/
URL:https://aachenbewegt.de/kalender/tag-ohne-barrieren/
X-IONAS-CATEGORY:Mobilität und Verkehr
CATEGORIES:Mobilität und Verkehr,Mobilität und Verkehr
ATTACH;FMTTYPE=image/png;X-COPYRIGHT=Stadt Aachen/Reiner Neulich:https://
 www.aachen.de/kalender/2026/q2/mobilitaet/2026-04-29-tag-ohne-barrieren/
 bildschirmfoto-2026-04-02-um-10.08.09.png?cid=zjb.8ol7
UID:42575956-5bb5-4fdd-81f9-bf17cbf5ed11:2026-04-29
END:VEVENT
END:VCALENDAR
