BEGIN:VCALENDAR
PRODID:-//Ben Fortuna//iCal4j 1.0//EN
VERSION:2.0
CALSCALE:GREGORIAN
BEGIN:VTIMEZONE
TZID:Europe/Berlin
LAST-MODIFIED:20201010T011803Z
TZURL:http://tzurl.org/zoneinfo/Europe/Berlin
X-LIC-LOCATION:Europe/Berlin
X-PROLEPTIC-TZNAME:LMT
BEGIN:STANDARD
TZNAME:CET
TZOFFSETFROM:+005328
TZOFFSETTO:+0100
DTSTART:18930401T000000
END:STANDARD
BEGIN:DAYLIGHT
TZNAME:CEST
TZOFFSETFROM:+0100
TZOFFSETTO:+0200
DTSTART:19160430T230000
RDATE:19400401T020000
RDATE:19430329T020000
RDATE:19460414T020000
RDATE:19470406T030000
RDATE:19480418T020000
RDATE:19490410T020000
RDATE:19800406T020000
END:DAYLIGHT
BEGIN:STANDARD
TZNAME:CET
TZOFFSETFROM:+0200
TZOFFSETTO:+0100
DTSTART:19161001T010000
RDATE:19421102T030000
RDATE:19431004T030000
RDATE:19441002T030000
RDATE:19451118T030000
RDATE:19461007T030000
END:STANDARD
BEGIN:DAYLIGHT
TZNAME:CEST
TZOFFSETFROM:+0100
TZOFFSETTO:+0200
DTSTART:19170416T020000
RRULE:FREQ=YEARLY;UNTIL=19180415T010000Z;BYMONTH=4;BYDAY=3MO
END:DAYLIGHT
BEGIN:STANDARD
TZNAME:CET
TZOFFSETFROM:+0200
TZOFFSETTO:+0100
DTSTART:19170917T030000
RRULE:FREQ=YEARLY;UNTIL=19180916T010000Z;BYMONTH=9;BYDAY=3MO
END:STANDARD
BEGIN:DAYLIGHT
TZNAME:CEST
TZOFFSETFROM:+0100
TZOFFSETTO:+0200
DTSTART:19440403T020000
RRULE:FREQ=YEARLY;UNTIL=19450402T010000Z;BYMONTH=4;BYDAY=1MO
END:DAYLIGHT
BEGIN:DAYLIGHT
TZNAME:CEMT
TZOFFSETFROM:+0200
TZOFFSETTO:+0300
DTSTART:19450524T020000
RDATE:19470511T030000
END:DAYLIGHT
BEGIN:DAYLIGHT
TZNAME:CEST
TZOFFSETFROM:+0300
TZOFFSETTO:+0200
DTSTART:19450924T030000
RDATE:19470629T030000
END:DAYLIGHT
BEGIN:STANDARD
TZNAME:CET
TZOFFSETFROM:+0100
TZOFFSETTO:+0100
DTSTART:19460101T000000
RDATE:19800101T000000
END:STANDARD
BEGIN:STANDARD
TZNAME:CET
TZOFFSETFROM:+0200
TZOFFSETTO:+0100
DTSTART:19471005T030000
RRULE:FREQ=YEARLY;UNTIL=19491002T010000Z;BYMONTH=10;BYDAY=1SU
END:STANDARD
BEGIN:STANDARD
TZNAME:CET
TZOFFSETFROM:+0200
TZOFFSETTO:+0100
DTSTART:19800928T030000
RRULE:FREQ=YEARLY;UNTIL=19950924T010000Z;BYMONTH=9;BYDAY=-1SU
END:STANDARD
BEGIN:DAYLIGHT
TZNAME:CEST
TZOFFSETFROM:+0100
TZOFFSETTO:+0200
DTSTART:19810329T020000
RRULE:FREQ=YEARLY;BYMONTH=3;BYDAY=-1SU
END:DAYLIGHT
BEGIN:STANDARD
TZNAME:CET
TZOFFSETFROM:+0200
TZOFFSETTO:+0100
DTSTART:19961027T030000
RRULE:FREQ=YEARLY;BYMONTH=10;BYDAY=-1SU
END:STANDARD
END:VTIMEZONE
BEGIN:VEVENT
DTSTAMP:20260422T182910Z
DTSTART;TZID=Europe/Berlin:20251211T170000
DTEND;TZID=Europe/Berlin:20251211T190000
SUMMARY:Weihnachtstreff in Kullen 
CREATED:20251204T191427Z
LAST-MODIFIED:20251205T074641Z
DESCRIPTION:Bald ist es so weit: Ein Weihnachtstreff in Kullen -\nalle si
 nd herzlich willkommen!\nEs gibt Punsch\, Gebäck\, Musik und Feuer!\n\nD
 as Stadtteilbüro veranstaltet gemeinsam mit dem Café4you und der Aktiven
  Nachbarschaft Kullen einen gemütlichen Treffpunkt unter freiem Himmel –
  mit winterlicher Atmosphäre\, Lichtern\, warmem Miteinander und heißem 
 Punsch.\n\nWir freuen uns auf einen stimmungsvollen Abend mit Euch in vo
 rweihnachtlicher Stimmung!\n\nWann: Donnerstag\, 11. Dezember 2025\, 17–
 19 Uhr\nWo: Vorplatz des Gemeindezentrums St. Philipp Neri / am Café4You
  (Philipp-Neri-Weg 7)
LOCATION:Gemeindezentrum St.Philipp-Neri 
X-LOCATION-NAME:Gemeindezentrum St.Philipp-Neri 
X-STREET-ADDRESS:Philipp-Neri-Weg 7
X-POSTAL-CODE:52074
X-LOCALITY:Aachen
ORGANIZER;CN=Quartiersmanagement Kronenberg/Kullen:mailto:xenia.frolova@m
 ail.aachen.de
X-ORGANIZER-NAME:Quartiersmanagement Kronenberg/Kullen
X-ORGANIZER-EMAIL:xenia.frolova@mail.aachen.de
X-ORGANIZER-WEBSITE:https://mitac.aachen.de/suche/-/vr-bis-detail/dienstl
 eistung/5802005/show
X-IONAS-CATEGORY:Freizeit
CATEGORIES:Freizeit,Familie,Kronenberg / Kullen,Weihnachten,Quartiersmana
 gement
ATTACH;FMTTYPE=image/png;X-COPYRIGHT="Stadt Aachen, iStock.com/AlexRaths"
 :https://www.aachen.de/kalender/2025/quartiersmanagement/kronenberg-kull
 en/2025-12-11-weihnachtstreff-in-kullen/weihnachtstreff-kullen-2fotos-xf
 .png?cid=vy7.7ljr
UID:0d5bae9d-dae8-48d8-ab8a-1cbd2c6833d9
END:VEVENT
END:VCALENDAR
