BEGIN:VCALENDAR
PRODID:-//IONAS//TVM//DE
VERSION:2.0
CALSCALE:GREGORIAN
BEGIN:VTIMEZONE
TZID:Europe/Berlin
LAST-MODIFIED:20201010T011803Z
TZURL:http://tzurl.org/zoneinfo/Europe/Berlin
X-LIC-LOCATION:Europe/Berlin
X-PROLEPTIC-TZNAME:LMT
BEGIN:STANDARD
TZNAME:CET
TZOFFSETFROM:+005328
TZOFFSETTO:+0100
DTSTART:18930401T000000
END:STANDARD
BEGIN:DAYLIGHT
TZNAME:CEST
TZOFFSETFROM:+0100
TZOFFSETTO:+0200
DTSTART:19160430T230000
RDATE:19400401T020000
RDATE:19430329T020000
RDATE:19460414T020000
RDATE:19470406T030000
RDATE:19480418T020000
RDATE:19490410T020000
RDATE:19800406T020000
END:DAYLIGHT
BEGIN:STANDARD
TZNAME:CET
TZOFFSETFROM:+0200
TZOFFSETTO:+0100
DTSTART:19161001T010000
RDATE:19421102T030000
RDATE:19431004T030000
RDATE:19441002T030000
RDATE:19451118T030000
RDATE:19461007T030000
END:STANDARD
BEGIN:DAYLIGHT
TZNAME:CEST
TZOFFSETFROM:+0100
TZOFFSETTO:+0200
DTSTART:19170416T020000
RRULE:FREQ=YEARLY;UNTIL=19180415T010000Z;BYMONTH=4;BYDAY=3MO
END:DAYLIGHT
BEGIN:STANDARD
TZNAME:CET
TZOFFSETFROM:+0200
TZOFFSETTO:+0100
DTSTART:19170917T030000
RRULE:FREQ=YEARLY;UNTIL=19180916T010000Z;BYMONTH=9;BYDAY=3MO
END:STANDARD
BEGIN:DAYLIGHT
TZNAME:CEST
TZOFFSETFROM:+0100
TZOFFSETTO:+0200
DTSTART:19440403T020000
RRULE:FREQ=YEARLY;UNTIL=19450402T010000Z;BYMONTH=4;BYDAY=1MO
END:DAYLIGHT
BEGIN:DAYLIGHT
TZNAME:CEMT
TZOFFSETFROM:+0200
TZOFFSETTO:+0300
DTSTART:19450524T020000
RDATE:19470511T030000
END:DAYLIGHT
BEGIN:DAYLIGHT
TZNAME:CEST
TZOFFSETFROM:+0300
TZOFFSETTO:+0200
DTSTART:19450924T030000
RDATE:19470629T030000
END:DAYLIGHT
BEGIN:STANDARD
TZNAME:CET
TZOFFSETFROM:+0100
TZOFFSETTO:+0100
DTSTART:19460101T000000
RDATE:19800101T000000
END:STANDARD
BEGIN:STANDARD
TZNAME:CET
TZOFFSETFROM:+0200
TZOFFSETTO:+0100
DTSTART:19471005T030000
RRULE:FREQ=YEARLY;UNTIL=19491002T010000Z;BYMONTH=10;BYDAY=1SU
END:STANDARD
BEGIN:STANDARD
TZNAME:CET
TZOFFSETFROM:+0200
TZOFFSETTO:+0100
DTSTART:19800928T030000
RRULE:FREQ=YEARLY;UNTIL=19950924T010000Z;BYMONTH=9;BYDAY=-1SU
END:STANDARD
BEGIN:DAYLIGHT
TZNAME:CEST
TZOFFSETFROM:+0100
TZOFFSETTO:+0200
DTSTART:19810329T020000
RRULE:FREQ=YEARLY;BYMONTH=3;BYDAY=-1SU
END:DAYLIGHT
BEGIN:STANDARD
TZNAME:CET
TZOFFSETFROM:+0200
TZOFFSETTO:+0100
DTSTART:19961027T030000
RRULE:FREQ=YEARLY;BYMONTH=10;BYDAY=-1SU
END:STANDARD
END:VTIMEZONE
BEGIN:VEVENT
DTSTAMP:20260420T044954Z
DTSTART;TZID=Europe/Berlin:20260716T170000
DTEND;TZID=Europe/Berlin:20260716T173000
SUMMARY:Regelmäßige Vorlesestunde
CREATED:20260311T113540Z
LAST-MODIFIED:20260317T090918Z
DESCRIPTION:Spannende\, lustige und fantastische Geschichten für kleine Z
 uhörerinnen und Zuhörer. Die Vorlesestunden fördern Sprachverständnis\, 
 Zuhörfähigkeit und die Freude an Büchern. Eine wunderbare Gelegenheit fü
 r Kinder\, erste Literaturerfahrungen zu sammeln und gemeinsam in Geschi
 chten einzutauchen.
LOCATION:Stadtbibliothek – Kinderbibliothek
X-LOCATION-NAME:Stadtbibliothek – Kinderbibliothek
X-STREET-ADDRESS:Couvenstraße 15
X-POSTAL-CODE:52062
X-LOCALITY:Aachen
X-ROOM-NUMBER:Kinderbibliothek (EG)
ORGANIZER;CN=Stadtbibliothek Aachen:mailto:kinderbibliothek@mail.aachen.d
 e
X-ORGANIZER-NAME:Stadtbibliothek Aachen
X-ORGANIZER-EMAIL:kinderbibliothek@mail.aachen.de
X-ORGANIZER-WEBSITE:https://webopac.stadtbibliothek-aachen.de/veranstaltu
 ngen/
URL:https://webopac.stadtbibliothek-aachen.de/veranstaltungen/
X-IONAS-CATEGORY:Familie\, Partnerschaft und Kinder
CATEGORIES:Familie\, Partnerschaft und Kinder,Kinder,Stadtbibliothek
ATTACH;FMTTYPE=image/jpeg;X-COPYRIGHT=MicrovOne:https://www.aachen.de/:tr
 anslation/nl/stadt-aachen/de/kalender/wiederkehrende-termine/stadtbiblio
 thek/2026-03-12-regelmaessige-vorlesestunde/istock-microvone.jpg?cid=sy3
 .8fn5
UID:b0d428f4-0134-4ecd-acab-86590fe49e60:2026-07-16
END:VEVENT
END:VCALENDAR
