BEGIN:VCALENDAR
PRODID:-//Ben Fortuna//iCal4j 1.0//EN
VERSION:2.0
CALSCALE:GREGORIAN
BEGIN:VTIMEZONE
TZID:Europe/Berlin
LAST-MODIFIED:20201010T011803Z
TZURL:http://tzurl.org/zoneinfo/Europe/Berlin
X-LIC-LOCATION:Europe/Berlin
X-PROLEPTIC-TZNAME:LMT
BEGIN:STANDARD
TZNAME:CET
TZOFFSETFROM:+005328
TZOFFSETTO:+0100
DTSTART:18930401T000000
END:STANDARD
BEGIN:DAYLIGHT
TZNAME:CEST
TZOFFSETFROM:+0100
TZOFFSETTO:+0200
DTSTART:19160430T230000
RDATE:19400401T020000
RDATE:19430329T020000
RDATE:19460414T020000
RDATE:19470406T030000
RDATE:19480418T020000
RDATE:19490410T020000
RDATE:19800406T020000
END:DAYLIGHT
BEGIN:STANDARD
TZNAME:CET
TZOFFSETFROM:+0200
TZOFFSETTO:+0100
DTSTART:19161001T010000
RDATE:19421102T030000
RDATE:19431004T030000
RDATE:19441002T030000
RDATE:19451118T030000
RDATE:19461007T030000
END:STANDARD
BEGIN:DAYLIGHT
TZNAME:CEST
TZOFFSETFROM:+0100
TZOFFSETTO:+0200
DTSTART:19170416T020000
RRULE:FREQ=YEARLY;UNTIL=19180415T010000Z;BYMONTH=4;BYDAY=3MO
END:DAYLIGHT
BEGIN:STANDARD
TZNAME:CET
TZOFFSETFROM:+0200
TZOFFSETTO:+0100
DTSTART:19170917T030000
RRULE:FREQ=YEARLY;UNTIL=19180916T010000Z;BYMONTH=9;BYDAY=3MO
END:STANDARD
BEGIN:DAYLIGHT
TZNAME:CEST
TZOFFSETFROM:+0100
TZOFFSETTO:+0200
DTSTART:19440403T020000
RRULE:FREQ=YEARLY;UNTIL=19450402T010000Z;BYMONTH=4;BYDAY=1MO
END:DAYLIGHT
BEGIN:DAYLIGHT
TZNAME:CEMT
TZOFFSETFROM:+0200
TZOFFSETTO:+0300
DTSTART:19450524T020000
RDATE:19470511T030000
END:DAYLIGHT
BEGIN:DAYLIGHT
TZNAME:CEST
TZOFFSETFROM:+0300
TZOFFSETTO:+0200
DTSTART:19450924T030000
RDATE:19470629T030000
END:DAYLIGHT
BEGIN:STANDARD
TZNAME:CET
TZOFFSETFROM:+0100
TZOFFSETTO:+0100
DTSTART:19460101T000000
RDATE:19800101T000000
END:STANDARD
BEGIN:STANDARD
TZNAME:CET
TZOFFSETFROM:+0200
TZOFFSETTO:+0100
DTSTART:19471005T030000
RRULE:FREQ=YEARLY;UNTIL=19491002T010000Z;BYMONTH=10;BYDAY=1SU
END:STANDARD
BEGIN:STANDARD
TZNAME:CET
TZOFFSETFROM:+0200
TZOFFSETTO:+0100
DTSTART:19800928T030000
RRULE:FREQ=YEARLY;UNTIL=19950924T010000Z;BYMONTH=9;BYDAY=-1SU
END:STANDARD
BEGIN:DAYLIGHT
TZNAME:CEST
TZOFFSETFROM:+0100
TZOFFSETTO:+0200
DTSTART:19810329T020000
RRULE:FREQ=YEARLY;BYMONTH=3;BYDAY=-1SU
END:DAYLIGHT
BEGIN:STANDARD
TZNAME:CET
TZOFFSETFROM:+0200
TZOFFSETTO:+0100
DTSTART:19961027T030000
RRULE:FREQ=YEARLY;BYMONTH=10;BYDAY=-1SU
END:STANDARD
END:VTIMEZONE
BEGIN:VEVENT
DTSTAMP:20260425T232716Z
DTSTART;TZID=Europe/Berlin:20260206T173000
DTEND;TZID=Europe/Berlin:20260206T203000
SUMMARY:Erweiterter Wildkräutersalben – Kurs – Herstellung von Creme und 
 Lippenpflege
CREATED:20260128T084307Z
LAST-MODIFIED:20260128T114854Z
DESCRIPTION:In diesem Kurs haben die Teilnehmenden die Möglichkeit versch
 iedene heimische Heilpflanzen aus unserer Region kennenzulernen und dere
 n Erkennung zu erlernen. Gemeinsam werden ein Heilpflanzenöl-Auszug\, ei
 ne Tinktur und ein Wasser-Auszug hergestellt\, die dann in eine pflegend
 e Creme und Lippenpflege verwandelt werden. Dabei können auch individuel
 le Wünsche der Teilnehmer berücksichtigt werden\, so dass jede*r das pas
 sende Produkt mit nach Hause nehmen kann.\nDas benötigte Material und ei
 n Skript sind in den Kursgebühren von 46\,- € enthalten.
LOCATION:vhs College\, Küche
X-LOCATION-NAME:vhs College\, Küche
X-STREET-ADDRESS:Sandkaulbach 13
X-POSTAL-CODE:52052
X-LOCALITY:Aachen
X-COUNTRY:DE
ORGANIZER;CN=vhs Aachen:mailto:vhs-pr@mail.aachen.de
X-ORGANIZER-NAME:vhs Aachen
X-ORGANIZER-EMAIL:vhs-pr@mail.aachen.de
X-ORGANIZER-WEBSITE:http:/
URL:https://www.vhs-aachen.de/kurssuche/kurs/Erweiterter-Wildkraeutersalb
 en-Kurs-Herstellung-von-Creme-und-Lippenpflege/252-11602#inhalt
X-IONAS-CATEGORY:Bildung
CATEGORIES:Bildung,Bildung,Gesundheit
ATTACH;FMTTYPE=image/jpeg;X-COPYRIGHT=Evangelos Rodoulis:https://www.aach
 en.de/:translation/fr/stadt-aachen/de/kalender/2026/q1/vhs/2026-02-06-er
 weiterter-wildkraeutersalben-kurs-herstellung-von-creme-und-lippenpflege
 /wildkraeuter-by-evangelos-rodoulis.jpg?cid=wup.7xft
UID:d7d69d83-fa9b-4bc6-9eb1-2514cbc31f26
END:VEVENT
END:VCALENDAR
